﻿BEGIN:VCALENDAR
VERSION:2.0
PRODID:-//wp-events-plugin.com//7.2.3.1//EN
TZID:Europe/Berlin
X-WR-TIMEZONE:Europe/Berlin
BEGIN:VEVENT
UID:24@clic-igeac.org
DTSTART;TZID=Europe/Berlin:20260429T100000
DTEND;TZID=Europe/Berlin:20260429T160000
DTSTAMP:20260310T115039Z
URL:https://clic-igeac.org/events/journee-sport-decouverte-cholet/
SUMMARY:Journée sport découverte Cholet
DESCRIPTION:\n\nLe centre socioculturel Ocsigène en partenariat avec la Je
 une France – Gratuit – Ouvert à toutes et tous\n\n\n\n\n\n\nMatin (10
 h-12h)\n\n 	Échauffement collectif\n 	Ateliers d’adresse &amp\; cogniti
 fs\n 	Temps d’échange\n\nAprès-midi (14h-15h30)\n\n 	Sarbacane Biathlo
 n\n 	Tchoukball\n 	Poull Ball ou Kin-Ball\n\nEncadrement par une enseignan
 te en Activité Physique Adaptée.\n\nInscription auprès de CSI Ocsigène
  au 02 41 56 26 10\n\n\n\n
ATTACH;FMTTYPE=image/jpeg:https://clic-igeac.org/wp-content/uploads/2026/0
 3/journee-sportive.jpg
CATEGORIES:Actualités de nos partenaires
END:VEVENT
BEGIN:VTIMEZONE
TZID:Europe/Berlin
X-LIC-LOCATION:Europe/Berlin
BEGIN:DAYLIGHT
DTSTART:20260329T030000
TZOFFSETFROM:+0100
TZOFFSETTO:+0200
TZNAME:CEST
END:DAYLIGHT
END:VTIMEZONE
END:VCALENDAR