﻿BEGIN:VCALENDAR
VERSION:2.0
PRODID:-//wp-events-plugin.com//7.2.3.1//EN
TZID:Europe/Berlin
X-WR-TIMEZONE:Europe/Berlin
BEGIN:VEVENT
UID:22@clic-igeac.org
DTSTART;TZID=Europe/Berlin:20260421T150000
DTEND;TZID=Europe/Berlin:20260421T170000
DTSTAMP:20260310T113115Z
URL:https://clic-igeac.org/events/forum-senior-sportif/
SUMMARY:Forum sénior sportif Cholet
DESCRIPTION:Forum senior organisé par la Badminton Associatif CHoletais 
 qui aura lieu le mardi 21 avril de 15h à 17h à la salle Auguste Grégoir
 e. Ateliers (Mémorisation\, Équilibre\, Coopération\, Badminton..).\n\n
 Affiche ici
ATTACH;FMTTYPE=image/jpeg:https://clic-igeac.org/wp-content/uploads/2026/0
 3/forum-senior.jpg
CATEGORIES:Actualités de nos partenaires
END:VEVENT
BEGIN:VTIMEZONE
TZID:Europe/Berlin
X-LIC-LOCATION:Europe/Berlin
BEGIN:DAYLIGHT
DTSTART:20260329T030000
TZOFFSETFROM:+0100
TZOFFSETTO:+0200
TZNAME:CEST
END:DAYLIGHT
END:VTIMEZONE
END:VCALENDAR